BEGIN:VCALENDAR
VERSION:2.0
PRODID:-//Aubonne Tourisme - ECPv6.15.15//NONSGML v1.0//EN
CALSCALE:GREGORIAN
METHOD:PUBLISH
X-WR-CALNAME:Aubonne Tourisme
X-ORIGINAL-URL:https://aubonne-tourisme.ch
X-WR-CALDESC:Évènements pour Aubonne Tourisme
REFRESH-INTERVAL;VALUE=DURATION:PT1H
X-Robots-Tag:noindex
X-PUBLISHED-TTL:PT1H
BEGIN:VTIMEZONE
TZID:Europe/Zurich
BEGIN:DAYLIGHT
TZOFFSETFROM:+0100
TZOFFSETTO:+0200
TZNAME:CEST
DTSTART:20230326T010000
END:DAYLIGHT
BEGIN:STANDARD
TZOFFSETFROM:+0200
TZOFFSETTO:+0100
TZNAME:CET
DTSTART:20231029T010000
END:STANDARD
BEGIN:DAYLIGHT
TZOFFSETFROM:+0100
TZOFFSETTO:+0200
TZNAME:CEST
DTSTART:20240331T010000
END:DAYLIGHT
BEGIN:STANDARD
TZOFFSETFROM:+0200
TZOFFSETTO:+0100
TZNAME:CET
DTSTART:20241027T010000
END:STANDARD
BEGIN:DAYLIGHT
TZOFFSETFROM:+0100
TZOFFSETTO:+0200
TZNAME:CEST
DTSTART:20250330T010000
END:DAYLIGHT
BEGIN:STANDARD
TZOFFSETFROM:+0200
TZOFFSETTO:+0100
TZNAME:CET
DTSTART:20251026T010000
END:STANDARD
END:VTIMEZONE
BEGIN:VEVENT
DTSTART;VALUE=DATE:20240325
DTEND;VALUE=DATE:20241020
DTSTAMP:20260419T160812
CREATED:20240308T110320Z
LAST-MODIFIED:20240726T101542Z
UID:1594-1711324800-1729382399@aubonne-tourisme.ch
SUMMARY:Événements aux Jardins de Chivrageon
DESCRIPTION:Découvrez de belles animations organisées par Raphaël Gétaz et son équipe aux Jardins de Chivrageon! \nProgramme complet: https://infomaniak.events/shop/IjRC9VYrwX
URL:https://aubonne-tourisme.ch/event/evenements-aux-jardins-de-chivrageon/
LOCATION:Les Jardins de Chivrageon\, Aubonne\, 1170
ATTACH;FMTTYPE=image/jpeg:https://aubonne-tourisme.ch/wp-content/uploads/2024/03/98e36046-8e07-4d71-b98f-88d488ff9f8a.jpg
END:VEVENT
BEGIN:VEVENT
DTSTART;VALUE=DATE:20240504
DTEND;VALUE=DATE:20240505
DTSTAMP:20260419T160812
CREATED:20240426T164550Z
LAST-MODIFIED:20240426T164550Z
UID:1643-1714780800-1714867199@aubonne-tourisme.ch
SUMMARY:Journée Parcs\, Jardins et lieux insolites
DESCRIPTION:Découvrez des lieux originaux à Aubonne! \n\n\n\n\nNous vous communiquons les « bonnes adresses » pour la journée dédiée aux Parcs\, Jardins et lieux insolites. Les propriétaires vous accueilleront de 10h00 à 17h00\, le samedi 4 mai. \nLe Petit Train touristique vous emmènera découvrir ces différents lieux.\nDes arrêts sont prévus aux Points : 1\, 5\, 8\, 9\, au parking de la Piscine ainsi qu’à Montherod-Battoir. \nUne visite sylvicole aux Bois des Soules\, guidée par le garde forestier M. Rafaël Kolly\, est organisée de 09h30 à 12h00 sur inscription uniquement à communication@aubonne.ch\, jusqu’au 30 avril. Durée 2h00.\nDépart : 9h00 à la piscine\, 9h15 à Montherod-Battoir\, et retour à 12h00. \nNous nous réjouissons de vous croiser pendant cette journée et de partager avec vous le verre de l’amitié\, qui vous sera servi dans l’ensemble des points ouverts à cet effet. À 17h00\, une verrée vous sera servie par votre Municipalité sous les Halles. \n\n\n\n\nEn cas de mauvais temps\, la manifestation sera maintenue.
URL:https://aubonne-tourisme.ch/event/journee-parcs-jardins-et-lieux-insolites/
LOCATION:Aubonne\, Aubonne\, 1170
ATTACH;FMTTYPE=image/jpeg:https://aubonne-tourisme.ch/wp-content/uploads/2023/03/Chateau-Aubonne_Visite-guidee.jpg
END:VEVENT
BEGIN:VEVENT
DTSTART;TZID=Europe/Zurich:20240524T180000
DTEND;TZID=Europe/Zurich:20240913T220000
DTSTAMP:20260419T160812
CREATED:20240515T171548Z
LAST-MODIFIED:20240515T171636Z
UID:1692-1716573600-1726264800@aubonne-tourisme.ch
SUMMARY:Aubonn'Apéros
DESCRIPTION:Tous les vendredis\, du 24 mai au 5 juillet\, puis du 16 août au 13 septembre\, vivez un moment de convivialité sous les Halles de la Place du Marché à Aubonne! \nRendez-vous de 18h à 22h.
URL:https://aubonne-tourisme.ch/event/aubonnaperos/
LOCATION:Place du Marché\, Aubonne\, Place du Marché\, Aubonne\, Vaud\, 1170\, Suisse
CATEGORIES:SDA
ATTACH;FMTTYPE=image/png:https://aubonne-tourisme.ch/wp-content/uploads/2024/05/AubonnApero_2024_A3.png
END:VEVENT
BEGIN:VEVENT
DTSTART;TZID=Europe/Zurich:20240525T103000
DTEND;TZID=Europe/Zurich:20240525T173000
DTSTAMP:20260419T160812
CREATED:20240308T105334Z
LAST-MODIFIED:20240515T170433Z
UID:1588-1716633000-1716658200@aubonne-tourisme.ch
SUMMARY:Aubonne Gourmande
DESCRIPTION:Une délicieuse promenade\n\n\n\n\n\n\n\n\nà savourer le 25 mai 2024 – INSCRIPTIONS COMPLÈTES\nCette marche permet de découvrir la région d’Aubonne tout en dégustant des mets savoureux.\n\n\n\n\n\n\n\n\nAppréciez une marche gustative d’environ 6\,5 km\, en direction de Féchy puis retour à Aubonne.\nLes départs et arrivées se font au Château d’Aubonne. Des places de parking sont à disposition. Inscrivez-vous par groupe\, entre amis\, collègues ou en famille. \nDépart de 10h30 à 17h30\, toutes les 15 minutes. \nInscriptions ouvertes dès le 17 mars jusqu’au 15 mai 2024. \nINFOS: https://aubonne-tourisme.ch/aubonne-gourmande/
URL:https://aubonne-tourisme.ch/event/aubonne-gourmande/
LOCATION:Château d’Aubonne\, Château\, Aubonne\, 1170\, Suisse
CATEGORIES:SDA
ATTACH;FMTTYPE=image/jpeg:https://aubonne-tourisme.ch/wp-content/uploads/2024/03/Visuel-Aubonne-Gourmande-2024.jpg
END:VEVENT
BEGIN:VEVENT
DTSTART;TZID=Europe/Zurich:20240526T180000
DTEND;TZID=Europe/Zurich:20240526T200000
DTSTAMP:20260419T160812
CREATED:20240503T094448Z
LAST-MODIFIED:20240503T094448Z
UID:1667-1716746400-1716753600@aubonne-tourisme.ch
SUMMARY:Vespérale au Temple d'Aubonne
DESCRIPTION:Saskia Salembier – chant & violon baroque \nMarcelo Giannini – orgue \nAvec projection sur grand écran \nEntrée libre avec collecte
URL:https://aubonne-tourisme.ch/event/vesperale-au-temple-daubonne/
LOCATION:Temple d’Aubonne\, Aubonne\, 1170
ATTACH;FMTTYPE=image/jpeg:https://aubonne-tourisme.ch/wp-content/uploads/2024/05/Affiche-vesperale-260524.jpg
END:VEVENT
END:VCALENDAR