BEGIN:VCALENDAR
VERSION:2.0
PRODID:-//Aubonne Tourisme - ECPv6.15.15//NONSGML v1.0//EN
CALSCALE:GREGORIAN
METHOD:PUBLISH
X-ORIGINAL-URL:https://aubonne-tourisme.ch
X-WR-CALDESC:Évènements pour Aubonne Tourisme
REFRESH-INTERVAL;VALUE=DURATION:PT1H
X-Robots-Tag:noindex
X-PUBLISHED-TTL:PT1H
BEGIN:VTIMEZONE
TZID:Europe/Zurich
BEGIN:DAYLIGHT
TZOFFSETFROM:+0100
TZOFFSETTO:+0200
TZNAME:CEST
DTSTART:20230326T010000
END:DAYLIGHT
BEGIN:STANDARD
TZOFFSETFROM:+0200
TZOFFSETTO:+0100
TZNAME:CET
DTSTART:20231029T010000
END:STANDARD
BEGIN:DAYLIGHT
TZOFFSETFROM:+0100
TZOFFSETTO:+0200
TZNAME:CEST
DTSTART:20240331T010000
END:DAYLIGHT
BEGIN:STANDARD
TZOFFSETFROM:+0200
TZOFFSETTO:+0100
TZNAME:CET
DTSTART:20241027T010000
END:STANDARD
BEGIN:DAYLIGHT
TZOFFSETFROM:+0100
TZOFFSETTO:+0200
TZNAME:CEST
DTSTART:20250330T010000
END:DAYLIGHT
BEGIN:STANDARD
TZOFFSETFROM:+0200
TZOFFSETTO:+0100
TZNAME:CET
DTSTART:20251026T010000
END:STANDARD
END:VTIMEZONE
BEGIN:VEVENT
DTSTART;VALUE=DATE:20240325
DTEND;VALUE=DATE:20241020
DTSTAMP:20260421T161203
CREATED:20240308T110320Z
LAST-MODIFIED:20240726T101542Z
UID:1594-1711324800-1729382399@aubonne-tourisme.ch
SUMMARY:Événements aux Jardins de Chivrageon
DESCRIPTION:Découvrez de belles animations organisées par Raphaël Gétaz et son équipe aux Jardins de Chivrageon! \nProgramme complet: https://infomaniak.events/shop/IjRC9VYrwX
URL:https://aubonne-tourisme.ch/event/evenements-aux-jardins-de-chivrageon/
LOCATION:Les Jardins de Chivrageon\, Aubonne\, 1170
ATTACH;FMTTYPE=image/jpeg:https://aubonne-tourisme.ch/wp-content/uploads/2024/03/98e36046-8e07-4d71-b98f-88d488ff9f8a.jpg
END:VEVENT
BEGIN:VEVENT
DTSTART;TZID=Europe/Zurich:20240524T180000
DTEND;TZID=Europe/Zurich:20240913T220000
DTSTAMP:20260421T161203
CREATED:20240515T171548Z
LAST-MODIFIED:20240515T171636Z
UID:1692-1716573600-1726264800@aubonne-tourisme.ch
SUMMARY:Aubonn'Apéros
DESCRIPTION:Tous les vendredis\, du 24 mai au 5 juillet\, puis du 16 août au 13 septembre\, vivez un moment de convivialité sous les Halles de la Place du Marché à Aubonne! \nRendez-vous de 18h à 22h.
URL:https://aubonne-tourisme.ch/event/aubonnaperos/
LOCATION:Place du Marché\, Aubonne\, Place du Marché\, Aubonne\, Vaud\, 1170\, Suisse
CATEGORIES:SDA
ATTACH;FMTTYPE=image/png:https://aubonne-tourisme.ch/wp-content/uploads/2024/05/AubonnApero_2024_A3.png
END:VEVENT
BEGIN:VEVENT
DTSTART;TZID=Europe/Zurich:20240626T200000
DTEND;TZID=Europe/Zurich:20240626T230000
DTSTAMP:20260421T161203
CREATED:20240607T081645Z
LAST-MODIFIED:20240607T081645Z
UID:1696-1719432000-1719442800@aubonne-tourisme.ch
SUMMARY:FRELON ASIATIQUE Lutter ensemble pour la biodiversité
DESCRIPTION:Conférence par M. Daniel Cherix\, biologiste et Professeur honoraire au Département d’écologie et d’évolution de l’UNIL. \nEn présence du Conseiller d’État\, M. Vassilis Venizelos\, Chef du Département de la jeunesse\, de l’environnement et de la sécurité du Canton de Vaud. \n\n\n\n\n26 juin. À 20h00 à la salle polyvalente d’Apples
URL:https://aubonne-tourisme.ch/event/frelon-asiatique-lutter-ensemble-pour-la-biodiversite/
LOCATION:salle polyvalente d’Apples\, Ch. des Collèges 5\, Apples\, Suisse
ATTACH;FMTTYPE=application/pdf:https://aubonne-tourisme.ch/wp-content/uploads/2024/06/Conference-du-26-juin-2024.pdf
END:VEVENT
END:VCALENDAR